BEGIN:VCALENDAR
PRODID:-//AT Content Types//AT Event//EN
VERSION:1.0
BEGIN:VEVENT
DTSTART:20150420T220000Z
DTEND:20150420T220000Z
DCREATED:20150416T102026Z
UID:ATEvent-a50de593ea354d59bcde6d87fc4ef65b
SEQUENCE:0
LAST-MODIFIED:20150416T102508Z
SUMMARY:16th meeting of the OECD Skills Strategy Advisory Group
LOCATION:Parigi
PRIORITY:3
TRANSP:0
END:VEVENT
END:VCALENDAR
