BEGIN:VCALENDAR
PRODID:-//AT Content Types//AT Event//EN
VERSION:1.0
BEGIN:VEVENT
DTSTART:20140205T083000Z
DTEND:20140205T153000Z
DCREATED:20140121T083302Z
UID:ATEvent-05bcf5c2540446b0ba1ce60abc54bfc3
SEQUENCE:0
LAST-MODIFIED:20140121T093358Z
SUMMARY:4th Network Meeting of the TNC 2014-2020 Learning Network
LOCATION:Bruxelles
PRIORITY:3
TRANSP:0
END:VEVENT
END:VCALENDAR
