BEGIN:VCALENDAR
PRODID:-//AT Content Types//AT Event//EN
VERSION:1.0
BEGIN:VEVENT
DTSTART:20140409T070000Z
DTEND:20140410T101500Z
DCREATED:20140402T122358Z
UID:ATEvent-01fa23100ceb4aa3b95ec96228b9c569
SEQUENCE:0
LAST-MODIFIED:20140709T140918Z
SUMMARY:Active inclusion. Learning Network  Troubled families transnational event
PRIORITY:3
TRANSP:0
END:VEVENT
END:VCALENDAR
