BEGIN:VCALENDAR
PRODID:-//AT Content Types//AT Event//EN
VERSION:1.0
BEGIN:VEVENT
DTSTART:20140519T070000Z
DTEND:20140520T150000Z
DCREATED:20140515T093849Z
UID:ATEvent-ce39251d379645df9b4bb0c01102b2c2
SEQUENCE:0
LAST-MODIFIED:20140515T093906Z
SUMMARY:Active inclusion learning Network
PRIORITY:3
TRANSP:0
END:VEVENT
END:VCALENDAR
