BEGIN:VCALENDAR
PRODID:-//AT Content Types//AT Event//EN
VERSION:1.0
BEGIN:VEVENT
DTSTART:20140611T070000Z
DTEND:20140612T100000Z
DCREATED:20140609T135314Z
UID:ATEvent-b999425acde4496f9b5efe3d4ceed117
SEQUENCE:0
LAST-MODIFIED:20140609T135347Z
SUMMARY:Active inclusion - Learning Network  Marginalised in Communities Transnational Event
LOCATION:Atene
PRIORITY:3
TRANSP:0
END:VEVENT
END:VCALENDAR
