BEGIN:VCALENDAR
PRODID:-//AT Content Types//AT Event//EN
VERSION:1.0
BEGIN:VEVENT
DTSTART:20140911T070000Z
DTEND:20140912T103000Z
DCREATED:20140908T135331Z
UID:ATEvent-baf065a5fac44eb9a22cdae463873ebe
SEQUENCE:0
LAST-MODIFIED:20140908T142205Z
SUMMARY:Active Inclusion 3rd Steering Group Meeting Public Institution European Social Fund Agency
LOCATION:Vilnius
PRIORITY:3
TRANSP:0
END:VEVENT
END:VCALENDAR
