BEGIN:VCALENDAR
PRODID:-//AT Content Types//AT Event//EN
VERSION:1.0
BEGIN:VEVENT
DTSTART:20141113T080000Z
DTEND:20141114T113000Z
DCREATED:20141110T111845Z
UID:ATEvent-a4d4e37b0af447249be2265513842bd1
SEQUENCE:0
LAST-MODIFIED:20141110T111915Z
SUMMARY:Active Inclusion Learning Network Troubled Families Transnational Peer Review
LOCATION:Bruxelles
PRIORITY:3
TRANSP:0
END:VEVENT
END:VCALENDAR
