BEGIN:VCALENDAR
PRODID:-//AT Content Types//AT Event//EN
VERSION:2.0
METHOD:PUBLISH
BEGIN:VEVENT
DTSTAMP:20260426T004806Z
CREATED:20141218T121253Z
UID:ATEvent-48df47ae783145f788cb468b10ebc6fd
LAST-MODIFIED:20141218T121323Z
SUMMARY:Active Inclusion Learning Network Disaffected Youth Transnational Peer Review Event
DTSTART:20141204T080000Z
DTEND:20141205T110000Z
LOCATION:Roma
CLASS:PUBLIC
END:VEVENT
END:VCALENDAR
