BEGIN:VCALENDAR
PRODID:-//AT Content Types//AT Event//EN
VERSION:1.0
BEGIN:VEVENT
DTSTART:20150319T083000Z
DTEND:20150320T123000Z
DCREATED:20150312T080334Z
UID:ATEvent-7c5a2328a7fb4b34b403a28c08b124aa
SEQUENCE:0
LAST-MODIFIED:20150312T080357Z
SUMMARY:Active inclusion learning Network – Research e Steering Group meeting
LOCATION:Londra
PRIORITY:3
TRANSP:0
END:VEVENT
END:VCALENDAR
