BEGIN:VCALENDAR
PRODID:-//AT Content Types//AT Event//EN
VERSION:1.0
BEGIN:VEVENT
DTSTART:20150122T130000Z
DTEND:20150124T110000Z
DCREATED:20150116T124554Z
UID:ATEvent-3b266a9d30964368b1587c03efb6a099
SEQUENCE:0
LAST-MODIFIED:20150116T124620Z
SUMMARY:Meeting informale delle Agenzie nazionali europee
LOCATION:Roma
PRIORITY:3
TRANSP:0
END:VEVENT
END:VCALENDAR
