BEGIN:VCALENDAR
PRODID:-//AT Content Types//AT Event//EN
VERSION:1.0
BEGIN:VEVENT
DTSTART:20141008T073000Z
DTEND:20141009T143000Z
DCREATED:20141002T112936Z
UID:ATEvent-e0a656b649c649be8d837fae64f6e280
SEQUENCE:0
LAST-MODIFIED:20141002T113023Z
SUMMARY:Annual meeting of the quality assurance national reference points
LOCATION:Bruxelles
PRIORITY:3
TRANSP:0
END:VEVENT
END:VCALENDAR
