BEGIN:VCALENDAR
PRODID:-//AT Content Types//AT Event//EN
VERSION:2.0
METHOD:PUBLISH
BEGIN:VEVENT
DTSTAMP:20260426T005145Z
CREATED:20131106T081645Z
UID:ATEvent-cfa73382a05742778a6361cc2577fab0
LAST-MODIFIED:20131114T144610Z
SUMMARY:Apprendistato di alta formazione e di ricerca
DTSTART:20131210T090000Z
DTEND:20131210T160000Z
LOCATION:Roma\, Isfol\, Sala Auditorium
CLASS:PUBLIC
END:VEVENT
END:VCALENDAR
