BEGIN:VCALENDAR
PRODID:-//AT Content Types//AT Event//EN
VERSION:2.0
METHOD:PUBLISH
BEGIN:VEVENT
DTSTAMP:20260426T004832Z
CREATED:20141014T063909Z
UID:ATEvent-3cacecad8a024343a535467519fe5a64
LAST-MODIFIED:20141014T063932Z
SUMMARY:Building an effective skills strategy for Portugal. Skills challenge workshop
DTSTART:20141016T073000Z
DTEND:20141017T123000Z
LOCATION:Lisbona
CLASS:PUBLIC
END:VEVENT
END:VCALENDAR
