BEGIN:VCALENDAR
PRODID:-//AT Content Types//AT Event//EN
VERSION:1.0
BEGIN:VEVENT
DTSTART:20140331T073000Z
DTEND:20140331T113000Z
DCREATED:20140320T074102Z
UID:ATEvent-23ec5703d2fd470695de992c770c92c5
SEQUENCE:0
LAST-MODIFIED:20140320T075422Z
SUMMARY:Linee Guida per la realizzazione degli esami di qualifica e diploma IeFP - 31 marzo 2014
LOCATION:Napoli ARLAS Campania (Centro Direzionale isola C5)
PRIORITY:3
TRANSP:0
END:VEVENT
END:VCALENDAR
