BEGIN:VCALENDAR
PRODID:-//AT Content Types//AT Event//EN
VERSION:2.0
METHOD:PUBLISH
BEGIN:VEVENT
DTSTAMP:20260426T023750Z
CREATED:20140320T074102Z
UID:ATEvent-94a8ccecafa247b7b395d6d29ad7654f
LAST-MODIFIED:20140320T075545Z
SUMMARY:Linee Guida per la realizzazione degli esami di qualifica e diploma IeFP - 2 aprile 2014
DTSTART:20140402T073000Z
DTEND:20140402T113000Z
LOCATION:Napoli ARLAS Campania (Centro Direzionale isola C5)
CLASS:PUBLIC
END:VEVENT
END:VCALENDAR
