BEGIN:VCALENDAR
PRODID:-//AT Content Types//AT Event//EN
VERSION:1.0
BEGIN:VEVENT
DTSTART:20140327T083000Z
DTEND:20140327T123000Z
DCREATED:20140320T074102Z
UID:ATEvent-4879f595a2634e15826da157a804abda
SEQUENCE:0
LAST-MODIFIED:20140320T075050Z
SUMMARY:Linee Guida per la realizzazione degli esami di qualifica e diploma IeFP - 27 marzo 2014
LOCATION:Napoli ARLAS Campania (Centro Direzionale isola C5)
PRIORITY:3
TRANSP:0
END:VEVENT
END:VCALENDAR
