BEGIN:VCALENDAR
PRODID:-//AT Content Types//AT Event//EN
VERSION:1.0
BEGIN:VEVENT
DTSTART:20140327T083000Z
DTEND:20140327T123000Z
DCREATED:20140321T073829Z
UID:ATEvent-3ec82df4e6744c0193ec2e5c3fb1885a
SEQUENCE:0
LAST-MODIFIED:20140321T073858Z
SUMMARY:ECVET- Metodi\, pratiche\, esperienze
LOCATION:Roma Isfol Auditorium
PRIORITY:3
TRANSP:0
END:VEVENT
END:VCALENDAR
