BEGIN:VCALENDAR
PRODID:-//AT Content Types//AT Event//EN
VERSION:1.0
BEGIN:VEVENT
DTSTART:20141107T083000Z
DTEND:20141107T134000Z
DCREATED:20141113T074704Z
UID:ATEvent-1a51b70cfc3c4cc5b580b38bf3539772
SEQUENCE:0
LAST-MODIFIED:20141113T074721Z
SUMMARY:Supporto alla gestione dei partenariati strategici Erasmus+ KA2
LOCATION:ISFOL Roma
PRIORITY:3
TRANSP:0
END:VEVENT
END:VCALENDAR
