BEGIN:VCALENDAR
PRODID:-//AT Content Types//AT Event//EN
VERSION:2.0
METHOD:PUBLISH
BEGIN:VEVENT
DTSTAMP:20260426T004833Z
CREATED:20140304T131611Z
UID:ATEvent-763e745d14a247128a42602a154eb950
LAST-MODIFIED:20140304T132755Z
SUMMARY:Infoday del settore Vet Erasmus+
DTSTART:20140313T080000Z
DTEND:20140314T170000Z
LOCATION:Roma\, Isfol\, Sala Auditorium
CLASS:PUBLIC
END:VEVENT
END:VCALENDAR
