BEGIN:VCALENDAR
PRODID:-//AT Content Types//AT Event//EN
VERSION:1.0
BEGIN:VEVENT
DTSTART:20150123T080000Z
DTEND:20150123T160000Z
DCREATED:20150120T065436Z
UID:ATEvent-a53cf1f8c9984a04b4772ac64adaa372
SEQUENCE:0
LAST-MODIFIED:20150120T065503Z
SUMMARY:ESF Learning Networks Coordination Meeting
LOCATION:Bruxelles
PRIORITY:3
TRANSP:0
END:VEVENT
END:VCALENDAR
