BEGIN:VCALENDAR
PRODID:-//AT Content Types//AT Event//EN
VERSION:2.0
METHOD:PUBLISH
BEGIN:VEVENT
DTSTAMP:20260426T004832Z
CREATED:20150130T111227Z
UID:ATEvent-85ca964e13b441cf8b4c36a83cea323a
LAST-MODIFIED:20150130T111248Z
SUMMARY:ESF TLN Mobility – VII Network Meeting
DTSTART:20150211T080000Z
DTEND:20150211T130000Z
LOCATION:Marsiglia
CLASS:PUBLIC
END:VEVENT
END:VCALENDAR
