BEGIN:VCALENDAR
PRODID:-//AT Content Types//AT Event//EN
VERSION:2.0
METHOD:PUBLISH
BEGIN:VEVENT
DTSTAMP:20260426T004807Z
CREATED:20150120T070456Z
UID:ATEvent-f7d5c33fa6d04ec0b4297c3e8c1e29a7
LAST-MODIFIED:20150120T113034Z
SUMMARY:Network meeting Learning Network on ESF Transnational Cooperation 2014-2020
DTSTART:20150122T080000Z
DTEND:20150122T130000Z
LOCATION:Bruxelles
CLASS:PUBLIC
END:VEVENT
END:VCALENDAR
