BEGIN:VCALENDAR
PRODID:-//AT Content Types//AT Event//EN
VERSION:2.0
METHOD:PUBLISH
BEGIN:VEVENT
DTSTAMP:20260426T005022Z
CREATED:20141127T104819Z
UID:ATEvent-55c099f086e94ef1abcf8b5602a81d27
LAST-MODIFIED:20141127T104851Z
SUMMARY:Riunione annuale della rete Euroguidance
DTSTART:20141127T083000Z
DTEND:20141127T150000Z
LOCATION:Roma Isfol Sala Erasmus\, 7° piano
CLASS:PUBLIC
END:VEVENT
END:VCALENDAR
