BEGIN:VCALENDAR
PRODID:-//AT Content Types//AT Event//EN
VERSION:1.0
BEGIN:VEVENT
DTSTART:20140605T070000Z
DTEND:20140606T123000Z
DCREATED:20140507T064948Z
UID:ATEvent-903b3eb7e2564d259ccc3c16ef30fe70
SEQUENCE:0
LAST-MODIFIED:20140612T092532Z
SUMMARY:Euroma meeting
LOCATION:Roma
PRIORITY:3
TRANSP:0
END:VEVENT
END:VCALENDAR
