BEGIN:VCALENDAR
PRODID:-//AT Content Types//AT Event//EN
VERSION:2.0
METHOD:PUBLISH
BEGIN:VEVENT
DTSTAMP:20260426T005037Z
CREATED:20140908T071724Z
UID:ATEvent-f6949785353c4e5cbcb51aa454918582
LAST-MODIFIED:20140908T071750Z
SUMMARY:Europass Supplemento al Certificato per i licei classici e artistici
DTSTART:20140909T073000Z
DTEND:20140910T110000Z
LOCATION:Padova
CLASS:PUBLIC
END:VEVENT
END:VCALENDAR
