BEGIN:VCALENDAR
PRODID:-//AT Content Types//AT Event//EN
VERSION:1.0
BEGIN:VEVENT
DTSTART:20140721T073000Z
DTEND:20140722T113000Z
DCREATED:20140716T064114Z
UID:ATEvent-d39fe1fd79a64555a3ebd76a1ba555dc
SEQUENCE:0
LAST-MODIFIED:20140718T075823Z
SUMMARY:Europass Supplemento al Certificato per i licei
LOCATION:Venezia
PRIORITY:3
TRANSP:0
END:VEVENT
END:VCALENDAR
