BEGIN:VCALENDAR
PRODID:-//AT Content Types//AT Event//EN
VERSION:2.0
METHOD:PUBLISH
BEGIN:VEVENT
DTSTAMP:20260426T005021Z
CREATED:20141106T141333Z
UID:ATEvent-25741e6509e549e4ab927841f41c43ef
LAST-MODIFIED:20141106T141740Z
SUMMARY:Esperienze di alternanza studio-lavoro
DTSTART:20141111T230000Z
DTEND:20141111T230000Z
DESCRIPTION:Fattori di successo
LOCATION:Pescara
CLASS:PUBLIC
END:VEVENT
END:VCALENDAR
