BEGIN:VCALENDAR
PRODID:-//AT Content Types//AT Event//EN
VERSION:2.0
METHOD:PUBLISH
BEGIN:VEVENT
DTSTAMP:20260426T004838Z
CREATED:20140317T154218Z
UID:ATEvent-4ea5276257dc4f4c8f051acfc8b724c9
LAST-MODIFIED:20140317T154245Z
SUMMARY:Quarto Network Meeting della Rete Transnazionale FSE Mobility
DTSTART:20140327T083000Z
DTEND:20140328T120000Z
LOCATION:Lisbona -Portogallo
CLASS:PUBLIC
END:VEVENT
END:VCALENDAR
