BEGIN:VCALENDAR
PRODID:-//AT Content Types//AT Event//EN
VERSION:2.0
METHOD:PUBLISH
BEGIN:VEVENT
DTSTAMP:20260426T004839Z
CREATED:20140916T084710Z
UID:ATEvent-7dff1d185e594327a7b6815f5cd79976
LAST-MODIFIED:20140916T084828Z
SUMMARY:Garanzia Giovani e Mobilita' Transnazionale
DTSTART:20140918T073000Z
DTEND:20140918T113000Z
LOCATION:Roma
CLASS:PUBLIC
END:VEVENT
END:VCALENDAR
