BEGIN:VCALENDAR
PRODID:-//AT Content Types//AT Event//EN
VERSION:1.0
BEGIN:VEVENT
DTSTART:20141112T083000Z
DTEND:20141112T083000Z
DCREATED:20141113T104145Z
UID:ATEvent-e183b0457de14d5dbba283490661efd3
SEQUENCE:0
LAST-MODIFIED:20141113T104218Z
SUMMARY:Giornata divulgativa del Programma Erasmus+
LOCATION:Roma
PRIORITY:3
TRANSP:0
END:VEVENT
END:VCALENDAR
