BEGIN:VCALENDAR
PRODID:-//AT Content Types//AT Event//EN
VERSION:2.0
METHOD:PUBLISH
BEGIN:VEVENT
DTSTAMP:20260426T004722Z
CREATED:20140325T132304Z
UID:ATEvent-2b000c504c9449bd81fda6ef4ddb3d06
LAST-MODIFIED:20140325T140612Z
SUMMARY:Giornata finale sperimentazione Progetto SOL
DTSTART:20140402T130000Z
DTEND:20140402T160000Z
LOCATION:ISFOL\, Corso d’Italia\, 33 Roma
CLASS:PUBLIC
END:VEVENT
END:VCALENDAR
