BEGIN:VCALENDAR
PRODID:-//AT Content Types//AT Event//EN
VERSION:2.0
METHOD:PUBLISH
BEGIN:VEVENT
DTSTAMP:20260426T005135Z
CREATED:20140310T142835Z
UID:ATEvent-e29ec649fce04cea81cfaa891397a4c1
LAST-MODIFIED:20140310T142851Z
SUMMARY:Gli ITS in Italia. Una scommessa vincente per valorizzare le eccellenze
DTSTART:20140320T093000Z
DTEND:20140320T123000Z
LOCATION:Censis  Piazza di Novella\, 2 - Roma
CLASS:PUBLIC
END:VEVENT
END:VCALENDAR
