BEGIN:VCALENDAR
PRODID:-//AT Content Types//AT Event//EN
VERSION:2.0
METHOD:PUBLISH
BEGIN:VEVENT
DTSTAMP:20260426T005001Z
CREATED:20140331T140421Z
UID:ATEvent-7c185e2e6b774f79bee31ccf49181714
LAST-MODIFIED:20140331T140520Z
SUMMARY:Gruppo di lavoro Europass “Supplemento al certificato”
DTSTART:20140402T080000Z
DTEND:20140502T140000Z
LOCATION:Bruxelles\, Centro Nazionale Europass del Belgio
CLASS:PUBLIC
END:VEVENT
END:VCALENDAR
