BEGIN:VCALENDAR
PRODID:-//AT Content Types//AT Event//EN
VERSION:2.0
METHOD:PUBLISH
BEGIN:VEVENT
DTSTAMP:20260426T023352Z
CREATED:20131104T135608Z
UID:ATEvent-9e80cc22570045b9856a40b0cd1b5ff7
LAST-MODIFIED:20131202T105515Z
SUMMARY:Gruppo Nazionale Placement
DTSTART:20131203T080000Z
DTEND:20131203T135500Z
LOCATION:Roma\, Auditorium Isfol
CLASS:PUBLIC
END:VEVENT
END:VCALENDAR
