BEGIN:VCALENDAR
PRODID:-//AT Content Types//AT Event//EN
VERSION:2.0
METHOD:PUBLISH
BEGIN:VEVENT
DTSTAMP:20260426T004934Z
CREATED:20140623T072711Z
UID:ATEvent-5139fd92b55c4afab369a09ce6afd592
LAST-MODIFIED:20140623T072726Z
SUMMARY:Gruppo Tecnico Scientifico sull’Alternanza Scuola Lavoro
DTSTART:20140616T220000Z
DTEND:20140616T220000Z
LOCATION:MIUR Via Ippolito Nievo 35
CLASS:PUBLIC
END:VEVENT
END:VCALENDAR
