BEGIN:VCALENDAR
PRODID:-//AT Content Types//AT Event//EN
VERSION:1.0
BEGIN:VEVENT
DTSTART:20131211T090000Z
DTEND:20131211T160000Z
DCREATED:20131206T130535Z
UID:ATEvent-3fa5a0ec18f84fd092a510e386b485ea
SEQUENCE:0
LAST-MODIFIED:20131206T130602Z
SUMMARY:Identità professionale e competenze degli operatori dell’orientamento\: verso un modello formativo
LOCATION:Roma - Isfol
PRIORITY:3
TRANSP:0
END:VEVENT
END:VCALENDAR
