BEGIN:VCALENDAR
PRODID:-//AT Content Types//AT Event//EN
VERSION:1.0
BEGIN:VEVENT
DTSTART:20140609T220000Z
DTEND:20140609T220000Z
DCREATED:20140623T072310Z
UID:ATEvent-c3425d2699f940f794f4e5a11ad507ca
SEQUENCE:0
LAST-MODIFIED:20140623T072342Z
SUMMARY:Indagine conoscitiva per contrastare la dispersione scolastica
LOCATION:Camera dei Deputati – piazza del Parlamento 24
PRIORITY:3
TRANSP:0
END:VEVENT
END:VCALENDAR
