BEGIN:VCALENDAR
PRODID:-//AT Content Types//AT Event//EN
VERSION:2.0
METHOD:PUBLISH
BEGIN:VEVENT
DTSTAMP:20260426T004522Z
CREATED:20150213T101409Z
UID:ATEvent-9a7b63bdbccc483ea2ffa9864657dfae
LAST-MODIFIED:20150213T101424Z
SUMMARY:Infoday Erasmus+
DTSTART:20150225T080000Z
DTEND:20150225T123000Z
LOCATION:Caserta
CLASS:PUBLIC
END:VEVENT
END:VCALENDAR
