BEGIN:VCALENDAR
PRODID:-//AT Content Types//AT Event//EN
VERSION:1.0
BEGIN:VEVENT
DTSTART:20140625T073000Z
DTEND:20140626T153000Z
DCREATED:20140611T063507Z
UID:ATEvent-965291e2bea8411eb82f50bd0191d890
SEQUENCE:0
LAST-MODIFIED:20140611T063522Z
SUMMARY:Infoday Erasmus+
LOCATION:Cagliari
PRIORITY:3
TRANSP:0
END:VEVENT
END:VCALENDAR
