BEGIN:VCALENDAR
PRODID:-//AT Content Types//AT Event//EN
VERSION:1.0
BEGIN:VEVENT
DTSTART:20141001T073000Z
DTEND:20141001T113000Z
DCREATED:20140922T092202Z
UID:ATEvent-a252ef6f873e4a489e69f154e53da5f0
SEQUENCE:0
LAST-MODIFIED:20140922T092221Z
SUMMARY:Innovation Week - Accessibility & Inclusion
LOCATION:MAXXI di Roma
PRIORITY:3
TRANSP:0
END:VEVENT
END:VCALENDAR
