BEGIN:VCALENDAR
PRODID:-//AT Content Types//AT Event//EN
VERSION:2.0
METHOD:PUBLISH
BEGIN:VEVENT
DTSTAMP:20260426T004402Z
CREATED:20131104T143818Z
UID:ATEvent-8eb533290b2e41ef939cf21c1afe4e4f
LAST-MODIFIED:20131104T143914Z
SUMMARY:Joint EQF/QF EHEA
DTSTART:20131107T090000Z
DTEND:20131107T144000Z
LOCATION:Bruxelles\, Commissione europea
CLASS:PUBLIC
END:VEVENT
END:VCALENDAR
