BEGIN:VCALENDAR
PRODID:-//AT Content Types//AT Event//EN
VERSION:2.0
METHOD:PUBLISH
BEGIN:VEVENT
DTSTAMP:20260426T004644Z
CREATED:20131104T142952Z
UID:ATEvent-e585800cf42743fe8addf55eaedd5cd1
LAST-MODIFIED:20131104T144059Z
SUMMARY:Joint EQqf/Europass/Euroguidance
DTSTART:20131106T083000Z
DTEND:20131106T153000Z
LOCATION:Commissione europea
CLASS:PUBLIC
END:VEVENT
END:VCALENDAR
