BEGIN:VCALENDAR
PRODID:-//AT Content Types//AT Event//EN
VERSION:2.0
METHOD:PUBLISH
BEGIN:VEVENT
DTSTAMP:20260426T023804Z
CREATED:20131104T141111Z
UID:ATEvent-b4ce2bcf1fae490eb383655aab71cab8
LAST-MODIFIED:20131114T090614Z
SUMMARY:Il lavoro nero e irregolare degli stranieri in Italia
DTSTART:20131120T080000Z
DTEND:20131120T150000Z
LOCATION:Napoli – Università Federico II – Dip. Di Scienze sociali
CLASS:PUBLIC
END:VEVENT
END:VCALENDAR
