BEGIN:VCALENDAR
PRODID:-//AT Content Types//AT Event//EN
VERSION:1.0
BEGIN:VEVENT
DTSTART:20150305T080000Z
DTEND:20150305T120000Z
DCREATED:20150226T104515Z
UID:ATEvent-9c4ff1c55d8b4cae9386004e7aec197f
SEQUENCE:0
LAST-MODIFIED:20150226T104538Z
SUMMARY:L’orientamento in Italia ed il bilancio di competenze
LOCATION:Roma ISFOL – Auditorium
PRIORITY:3
TRANSP:0
END:VEVENT
END:VCALENDAR
