BEGIN:VCALENDAR
PRODID:-//AT Content Types//AT Event//EN
VERSION:1.0
BEGIN:VEVENT
DTSTART:20131114T080000Z
DTEND:20131114T120000Z
DCREATED:20131108T121806Z
UID:ATEvent-b6257fd0e1eb46f6bd423b57cadc14ce
SEQUENCE:0
LAST-MODIFIED:20131108T123806Z
SUMMARY:Sperimentazione ECVET nei processi di apprendimento in contesti lavorativi
LOCATION:Bari c/o la sede della Regione Puglia
PRIORITY:3
TRANSP:0
END:VEVENT
END:VCALENDAR
