BEGIN:VCALENDAR
PRODID:-//AT Content Types//AT Event//EN
VERSION:2.0
METHOD:PUBLISH
BEGIN:VEVENT
DTSTAMP:20260426T005036Z
CREATED:20150420T062653Z
UID:ATEvent-2137ad3d2b844871abdd155af16d00fb
LAST-MODIFIED:20150420T062714Z
SUMMARY:Le strategie europee per la trasparenza e l’implementazione di EQF
DTSTART:20150420T070000Z
DTEND:20150421T143000Z
LOCATION:Roma ISFOL
CLASS:PUBLIC
END:VEVENT
END:VCALENDAR
