BEGIN:VCALENDAR
PRODID:-//AT Content Types//AT Event//EN
VERSION:1.0
BEGIN:VEVENT
DTSTART:20140923T220000Z
DTEND:20140925T220000Z
DCREATED:20141002T105306Z
UID:ATEvent-034b5b90d84a4da3be8e9fa8475339ac
SEQUENCE:0
LAST-MODIFIED:20141002T105749Z
SUMMARY:L'importanza delle lingue
DESCRIPTION:Il multilinguismo visto da una prospettiva europea e nazio
 nale
LOCATION:Firenze
PRIORITY:3
TRANSP:0
END:VEVENT
END:VCALENDAR
