BEGIN:VCALENDAR
PRODID:-//AT Content Types//AT Event//EN
VERSION:1.0
BEGIN:VEVENT
DTSTART:20141024T073000Z
DTEND:20141024T113000Z
DCREATED:20141021T124513Z
UID:ATEvent-387e58c1cc9e4959b6b58c782363b72d
SEQUENCE:0
LAST-MODIFIED:20141021T124611Z
SUMMARY:Lo stato dell’orientamento in Italia\: un focus sul bilancio di competenze
LOCATION:Roma Isfol - Sala Auditorium
PRIORITY:3
TRANSP:0
END:VEVENT
END:VCALENDAR
