BEGIN:VCALENDAR
PRODID:-//AT Content Types//AT Event//EN
VERSION:1.0
BEGIN:VEVENT
DTSTART:20140407T080000Z
DTEND:20140408T150000Z
DCREATED:20140403T103507Z
UID:ATEvent-a6fa923605aa45189a0c9d1aeed58b04
SEQUENCE:0
LAST-MODIFIED:20140407T114546Z
SUMMARY:Meeting della rete Euroguidance per l’annualità 2014
LOCATION:Atene\, Centro Euroguidance greco.
PRIORITY:3
TRANSP:0
END:VEVENT
END:VCALENDAR
