BEGIN:VCALENDAR
PRODID:-//AT Content Types//AT Event//EN
VERSION:1.0
BEGIN:VEVENT
DTSTART:20150311T083000Z
DTEND:20150311T123000Z
DCREATED:20150305T072648Z
UID:ATEvent-1a1fb8788cf44b1a994d9ec690321297
SEQUENCE:0
LAST-MODIFIED:20150305T072708Z
SUMMARY:Occupabilita'
LOCATION:Roma ISFOL
PRIORITY:3
TRANSP:0
END:VEVENT
END:VCALENDAR
